BEGIN:VCALENDAR
VERSION:2.0
PRODID:-//CSF Sud de France - ECPv6.15.17.1//NONSGML v1.0//EN
CALSCALE:GREGORIAN
METHOD:PUBLISH
X-WR-CALNAME:CSF Sud de France
X-ORIGINAL-URL:https://sud-de-france.cancersupportfrance.org
X-WR-CALDESC:Events for CSF Sud de France
REFRESH-INTERVAL;VALUE=DURATION:PT1H
X-Robots-Tag:noindex
X-PUBLISHED-TTL:PT1H
BEGIN:VTIMEZONE
TZID:Europe/Paris
BEGIN:DAYLIGHT
TZOFFSETFROM:+0100
TZOFFSETTO:+0200
TZNAME:CEST
DTSTART:20240331T010000
END:DAYLIGHT
BEGIN:STANDARD
TZOFFSETFROM:+0200
TZOFFSETTO:+0100
TZNAME:CET
DTSTART:20241027T010000
END:STANDARD
BEGIN:DAYLIGHT
TZOFFSETFROM:+0100
TZOFFSETTO:+0200
TZNAME:CEST
DTSTART:20250330T010000
END:DAYLIGHT
BEGIN:STANDARD
TZOFFSETFROM:+0200
TZOFFSETTO:+0100
TZNAME:CET
DTSTART:20251026T010000
END:STANDARD
BEGIN:DAYLIGHT
TZOFFSETFROM:+0100
TZOFFSETTO:+0200
TZNAME:CEST
DTSTART:20260329T010000
END:DAYLIGHT
BEGIN:STANDARD
TZOFFSETFROM:+0200
TZOFFSETTO:+0100
TZNAME:CET
DTSTART:20261025T010000
END:STANDARD
END:VTIMEZONE
BEGIN:VEVENT
DTSTART;TZID=Europe/Paris:20250910T100000
DTEND;TZID=Europe/Paris:20250910T113000
DTSTAMP:20260420T115438
CREATED:20250825T124141Z
LAST-MODIFIED:20250825T130128Z
UID:1038-1757498400-1757503800@sud-de-france.cancersupportfrance.org
SUMMARY:Gaillac Coffee morning
DESCRIPTION:
URL:https://sud-de-france.cancersupportfrance.org/event/gaillac-coffee-morning/
LOCATION:Café des Sports\, 54 place de la Libération\, Gaillac\, 81600\, France
END:VEVENT
BEGIN:VEVENT
DTSTART;TZID=Europe/Paris:20250910T100000
DTEND;TZID=Europe/Paris:20250910T120000
DTSTAMP:20260420T115438
CREATED:20250825T124052Z
LAST-MODIFIED:20250825T130209Z
UID:1036-1757498400-1757505600@sud-de-france.cancersupportfrance.org
SUMMARY:Argens-Minervois Book café
DESCRIPTION:
URL:https://sud-de-france.cancersupportfrance.org/event/argens-minervois-book-cafe/
LOCATION:Salle des Associations\, Mairie\, 1 Place Jean Moulin\, Argens-Minervois\, 11200\, France
END:VEVENT
END:VCALENDAR